BEGIN:VCALENDAR
VERSION:2.0
PRODID:-//ThemeBoy//SportsPress//DE
CALSCALE:GREGORIAN
METHOD:PUBLISH
URL:https://ehc-st.jodok.org/calendar/spielplan/?feed=sp-ical
X-FROM-URL:https://ehc-st.jodok.org/calendar/spielplan/?feed=sp-ical
NAME:Spielplan
X-WR-CALNAME:Spielplan
DESCRIPTION:Spielplan
X-WR-CALDESC:Spielplan
REFRESH-INTERVAL;VALUE=DURATION:PT2M
X-PUBLISHED-TTL:PT2M
TZID:Europe/Vienna
X-WR-TIMEZONE:Europe/Vienna
BEGIN:VEVENT
SUMMARY:EHC Raiba St. Jodok 4 HC Torpedo Innsbruck 2
UID:1538
STATUS:CONFIRMED
DTSTAMP:19700101T000000
DTSTART:20251113T201547
DTEND:20251113T221547
LAST-MODIFIED:20251113T211403
LOCATION:Eishalle Sterzing\, Eisplatz - Arena\, Karl-Riedmann-Platz\,
	Sterzing\, Wipptal\, Bozen\, Trentino-Südtirol\, 39049\,
	Italien
GEO:46.89306785;11.4380967466449
END:VEVENT
BEGIN:VEVENT
SUMMARY:HC Torpedo Innsbruck 0 EHC Raiba St. Jodok 4
UID:1539
STATUS:CONFIRMED
DTSTAMP:19700101T000000
DTSTART:20251118T203015
DTEND:20251118T223015
LAST-MODIFIED:20251118T213434
LOCATION:Sportzentrum Telfs\, Sportzentrum Telfs\,
	Franz-Rimml-Straße\, Scharnjoch\, Telfs\, Innsbruck-Land\,
	Tirol\, 6410\, Österreich
GEO:47.30295965;11.0665576211246
END:VEVENT
BEGIN:VEVENT
SUMMARY:EC Vikings Zirl 3 EHC Raiba St. Jodok 5
UID:1540
STATUS:CONFIRMED
DTSTAMP:19700101T000000
DTSTART:20251122T201509
DTEND:20251122T221509
LAST-MODIFIED:20251209T231926
LOCATION:Sportzentrum Telfs\, Sportzentrum Telfs\,
	Franz-Rimml-Straße\, Scharnjoch\, Telfs\, Innsbruck-Land\,
	Tirol\, 6410\, Österreich
GEO:47.30295965;11.0665576211246
END:VEVENT
BEGIN:VEVENT
SUMMARY:EC Newcomers 2 EHC Raiba St. Jodok 3
UID:1541
STATUS:CONFIRMED
DTSTAMP:19700101T000000
DTSTART:20251209T210042
DTEND:20251209T230042
LAST-MODIFIED:20251209T232134
LOCATION:TIWAG Arena\, TIWAG Arena\, Olympiastraße\, Tivoli\,
	Pradl\, Innsbruck\, Tirol\, 6020\, Österreich
GEO:47.2579469;11.4105839863951
END:VEVENT
BEGIN:VEVENT
SUMMARY:EC Götzens 5 EHC Raiba St. Jodok 3
UID:1542
STATUS:CONFIRMED
DTSTAMP:19700101T000000
DTSTART:20251213T163029
DTEND:20251213T183029
LAST-MODIFIED:20251213T203500
LOCATION:Eissportzentrum Götzens\, Eissportzentrum Götzens\, 48\,
	Neu-Götzner-Straße\, Götzens\, Innsbruck-Land\, Tirol\,
	6091\, Austria
GEO:47.23281975;11.3223796
END:VEVENT
BEGIN:VEVENT
SUMMARY:EHC Raiba St. Jodok 4 EC Vikings Zirl 3
UID:1543
STATUS:CONFIRMED
DTSTAMP:19700101T000000
DTSTART:20251230T193012
DTEND:20251230T213012
LAST-MODIFIED:20251230T203622
LOCATION:Sportplatz St. Jodok\, St. Jodok\, Innsbruck-Land\, Tirol\,
	6156\, Österreich
GEO:47.06268233073216;11.49734276484613
END:VEVENT
BEGIN:VEVENT
SUMMARY:EHC Raiba St. Jodok 3 EC Götzens 0
UID:1544
STATUS:CONFIRMED
DTSTAMP:19700101T000000
DTSTART:20260102T193050
DTEND:20260102T213050
LAST-MODIFIED:20260102T201703
LOCATION:Sportplatz St. Jodok\, St. Jodok\, Innsbruck-Land\, Tirol\,
	6156\, Österreich
GEO:47.06268233073216;11.49734276484613
END:VEVENT
BEGIN:VEVENT
SUMMARY:EHC Raiba St. Jodok 4 EC Newcomers 5
UID:1545
STATUS:CONFIRMED
DTSTAMP:19700101T000000
DTSTART:20260110T193036
DTEND:20260110T213036
LAST-MODIFIED:20260110T210046
LOCATION:Sportplatz St. Jodok\, St. Jodok\, Innsbruck-Land\, Tirol\,
	6156\, Österreich
GEO:47.06268233073216;11.49734276484613
END:VEVENT
BEGIN:VEVENT
SUMMARY:EHC Raiba St. Jodok 6 IEC Scorpions Imst 3
UID:1546
STATUS:CONFIRMED
DTSTAMP:19700101T000000
DTSTART:20260115T193013
DTEND:20260115T213013
LAST-MODIFIED:20260115T201751
LOCATION:Sportplatz St. Jodok\, St. Jodok\, Innsbruck-Land\, Tirol\,
	6156\, Österreich
GEO:47.06268233073216;11.49734276484613
END:VEVENT
BEGIN:VEVENT
SUMMARY:IEC Scorpions Imst 4 EHC Raiba St. Jodok 1
UID:1547
STATUS:CONFIRMED
DTSTAMP:19700101T000000
DTSTART:20260130T200046
DTEND:20260130T220046
LAST-MODIFIED:20260130T211140
LOCATION:Sportzentrum Imst\, Freizeitzentrum Imst\, 25\, Am Raun\,
	Imst\, Bezirk Imst\, 6460\, Österreich
GEO:47.2415462;10.7505511
END:VEVENT
BEGIN:VEVENT
SUMMARY:EHC Raiba St. Jodok 4 IEC Scorpions Imst 0
UID:1612
STATUS:CONFIRMED
DTSTAMP:19700101T000000
DTSTART:20260209T203014
DTEND:20260209T223014
LAST-MODIFIED:20260209T220430
LOCATION:Eishalle Sterzing\, Eisplatz - Arena\, Karl-Riedmann-Platz\,
	Sterzing\, Wipptal\, Bozen\, Trentino-Südtirol\, 39049\,
	Italien
GEO:46.89306785;11.4380967466449
END:VEVENT
BEGIN:VEVENT
SUMMARY:IEC Scorpions Imst 3 EHC Raiba St. Jodok 1
UID:1613
STATUS:CONFIRMED
DTSTAMP:19700101T000000
DTSTART:20260214T170026
DTEND:20260214T190026
LAST-MODIFIED:20260414T182744
LOCATION:Sportzentrum Imst\, Freizeitzentrum Imst\, 25\, Am Raun\,
	Imst\, Bezirk Imst\, 6460\, Österreich
GEO:47.2415462;10.7505511
END:VEVENT
BEGIN:VEVENT
SUMMARY:EHC Raiba St. Jodok 1 IEC Scorpions Imst 3
UID:1614
STATUS:CONFIRMED
DTSTAMP:19700101T000000
DTSTART:20260216T193059
DTEND:20260216T213059
LAST-MODIFIED:20260219T122644
LOCATION:Sportplatz St. Jodok\, St. Jodok\, Innsbruck-Land\, Tirol\,
	6156\, Österreich
GEO:47.06268233073216;11.49734276484613
END:VEVENT
BEGIN:VEVENT
SUMMARY:IEC Scorpions Imst 3 EHC Raiba St. Jodok 2
UID:1615
STATUS:CONFIRMED
DTSTAMP:19700101T000000
DTSTART:20260223T200037
DTEND:20260223T220037
LAST-MODIFIED:20260223T211359
LOCATION:Sportzentrum Imst\, Freizeitzentrum Imst\, 25\, Am Raun\,
	Imst\, Bezirk Imst\, 6460\, Österreich
GEO:47.2415462;10.7505511
END:VEVENT
BEGIN:VEVENT
SUMMARY:EHC Raiba St. Jodok 5 EC Götzens 2
UID:1632
STATUS:CONFIRMED
DTSTAMP:19700101T000000
DTSTART:20260307T151545
DTEND:20260307T171545
LAST-MODIFIED:20260307T155946
LOCATION:TIWAG Arena\, TIWAG Arena\, Olympiastraße\, Tivoli\,
	Pradl\, Innsbruck\, Tirol\, 6020\, Österreich
GEO:47.2579469;11.4105839863951
END:VEVENT
END:VCALENDAR